BEGIN:VCALENDAR
VERSION:2.0
PRODID:-//pretix//Reservia//
BEGIN:VEVENT
UID:pretix-SG-drvoice-0@register.serenas.com.tr
DTSTART;VALUE=DATE:20260523
DTEND;VALUE=DATE:20260712
DESCRIPTION:Tickets: https://register.serenas.com.tr/drvoice/\nOrganizer: S
 erenas Group
DTSTAMP:20260420T021712Z
SUMMARY:Dr. Voice Online Course of Advanced Phonosurgery
END:VEVENT
END:VCALENDAR
