BEGIN:VCALENDAR
VERSION:2.0
PRODID:-//pretix//Reservia//
BEGIN:VTIMEZONE
TZID:Europe/Istanbul
BEGIN:STANDARD
DTSTART:20001029T030000
RRULE:FREQ=YEARLY;BYDAY=-1SU;BYMONTH=10;UNTIL=20061029T000000Z
TZNAME:EET
TZOFFSETFROM:+0300
TZOFFSETTO:+0200
END:STANDARD
BEGIN:STANDARD
DTSTART:20071028T050000
RRULE:FREQ=YEARLY;BYDAY=-1SU;BYMONTH=10;UNTIL=20141026T020000Z
TZNAME:EET
TZOFFSETFROM:+0300
TZOFFSETTO:+0200
END:STANDARD
BEGIN:STANDARD
DTSTART:20151108T050000
RRULE:FREQ=YEARLY;BYDAY=2SU;BYMONTH=11;UNTIL=20151108T020000Z
TZNAME:EET
TZOFFSETFROM:+0300
TZOFFSETTO:+0200
END:STANDARD
BEGIN:STANDARD
DTSTART:20160907T010000
RRULE:FREQ=YEARLY;BYDAY=1WE;BYMONTH=9
TZNAME:+03
TZOFFSETFROM:+0300
TZOFFSETTO:+0300
END:STANDARD
BEGIN:DAYLIGHT
DTSTART:20000326T020000
RRULE:FREQ=YEARLY;BYDAY=-1SU;BYMONTH=3;UNTIL=20060326T000000Z
TZNAME:EEST
TZOFFSETFROM:+0200
TZOFFSETTO:+0300
END:DAYLIGHT
BEGIN:DAYLIGHT
DTSTART:20070325T040000
RRULE:FREQ=YEARLY;BYDAY=-1SU;BYMONTH=3;UNTIL=20100328T020000Z
TZNAME:EEST
TZOFFSETFROM:+0200
TZOFFSETTO:+0300
END:DAYLIGHT
BEGIN:DAYLIGHT
DTSTART:20110328T040000
RRULE:FREQ=YEARLY;BYDAY=4MO;BYMONTH=3;UNTIL=20110328T020000Z
TZNAME:EEST
TZOFFSETFROM:+0200
TZOFFSETTO:+0300
END:DAYLIGHT
BEGIN:DAYLIGHT
DTSTART:20120325T040000
RRULE:FREQ=YEARLY;BYDAY=-1SU;BYMONTH=3;UNTIL=20130331T020000Z
TZNAME:EEST
TZOFFSETFROM:+0200
TZOFFSETTO:+0300
END:DAYLIGHT
BEGIN:DAYLIGHT
DTSTART:20140331T040000
RRULE:FREQ=YEARLY;BYDAY=5MO;BYMONTH=3;UNTIL=20140331T020000Z
TZNAME:EEST
TZOFFSETFROM:+0200
TZOFFSETTO:+0300
END:DAYLIGHT
BEGIN:DAYLIGHT
DTSTART:20150329T040000
RRULE:FREQ=YEARLY;BYDAY=-1SU;BYMONTH=3;UNTIL=20160327T020000Z
TZNAME:EEST
TZOFFSETFROM:+0200
TZOFFSETTO:+0300
END:DAYLIGHT
END:VTIMEZONE
BEGIN:VEVENT
UID:pretix-SG-BMC2026Services-0@register.serenas.com.tr
DTSTART;TZID=Europe/Istanbul:20261006T073000
DTEND;TZID=Europe/Istanbul:20261007T203000
DESCRIPTION:Tickets: https://register.serenas.com.tr/BMC2026Services/\nOrga
 nizer: Serenas Group
DTSTAMP:20260420T021510Z
LOCATION:Hilton Istanbul Bosphorus\, Cumhuriyet Caddesi No 50\, 34367 Harbi
 ye - Sisli – Istanbul\, Turkey
SUMMARY:Bosphorus Mining Connect 2026 Additional Services
END:VEVENT
END:VCALENDAR
